BEGIN:VCALENDAR
VERSION:2.0
PRODID:-//Kesher - ECPv5.3.2.1//NONSGML v1.0//EN
CALSCALE:GREGORIAN
METHOD:PUBLISH
X-WR-CALNAME:Kesher
X-ORIGINAL-URL:https://kesher.org.uk
X-WR-CALDESC:Events for Kesher
BEGIN:VTIMEZONE
TZID:UTC
BEGIN:STANDARD
TZOFFSETFROM:+0000
TZOFFSETTO:+0000
TZNAME:UTC
DTSTART:20260101T000000
END:STANDARD
END:VTIMEZONE
BEGIN:VEVENT
DTSTART;TZID=UTC:20260528T200000
DTEND;TZID=UTC:20260528T203000
DTSTAMP:20260423T032750
CREATED:20251023T110343Z
LAST-MODIFIED:20260422T114616Z
UID:17634-1779998400-1780000200@kesher.org.uk
SUMMARY:30 Minutes on the Parasha
DESCRIPTION:30 Minutes on the Parasha \nvia Zoom bit.ly/keshershiur
URL:https://kesher.org.uk/event/30-minutes-on-the-parasha-7-2025-11-27-2-2025-12-18-2-2026-01-22-2-2026-02-19-3-2026-03-19-2-2026-04-23-2-2/
ATTACH;FMTTYPE=image/jpeg:https://kesher.org.uk/wp-content/uploads/2025/02/Parsha-Shiur-5786-Abarbanel.jpg
END:VEVENT
END:VCALENDAR