BEGIN:VCALENDAR
VERSION:2.0
PRODID:-//Kesher - ECPv5.3.2.1//NONSGML v1.0//EN
CALSCALE:GREGORIAN
METHOD:PUBLISH
X-WR-CALNAME:Kesher
X-ORIGINAL-URL:https://kesher.org.uk
X-WR-CALDESC:Events for Kesher
BEGIN:VTIMEZONE
TZID:UTC
BEGIN:STANDARD
TZOFFSETFROM:+0000
TZOFFSETTO:+0000
TZNAME:UTC
DTSTART:20250101T000000
END:STANDARD
END:VTIMEZONE
BEGIN:VEVENT
DTSTART;TZID=UTC:20250410T203000
DTEND;TZID=UTC:20250410T203000
DTSTAMP:20260421T180432
CREATED:20200313T110530Z
LAST-MODIFIED:20250303T131058Z
UID:15903-1744317000-1744317000@kesher.org.uk
SUMMARY:Bedikat Chametz
DESCRIPTION:After 8:30pm
URL:https://kesher.org.uk/event/bedikat-chametz-2-2-2-2-2/
ATTACH;FMTTYPE=image/jpeg:https://kesher.org.uk/wp-content/uploads/2019/03/Bedikat-Chametz.jpg
END:VEVENT
END:VCALENDAR