BEGIN:VCALENDAR
VERSION:2.0
PRODID:-//Kesher - ECPv5.3.2.1//NONSGML v1.0//EN
CALSCALE:GREGORIAN
METHOD:PUBLISH
X-WR-CALNAME:Kesher
X-ORIGINAL-URL:https://kesher.org.uk
X-WR-CALDESC:Events for Kesher
BEGIN:VTIMEZONE
TZID:UTC
BEGIN:STANDARD
TZOFFSETFROM:+0000
TZOFFSETTO:+0000
TZNAME:UTC
DTSTART:20240101T000000
END:STANDARD
END:VTIMEZONE
BEGIN:VEVENT
DTSTART;VALUE=DATE:20240713
DTEND;VALUE=DATE:20240714
DTSTAMP:20260421T214109
CREATED:20200914T105153Z
LAST-MODIFIED:20240605T115937Z
UID:14810-1720828800-1720915199@kesher.org.uk
SUMMARY:Chukat
DESCRIPTION:Shacharit 9:00am \nPirkei Avot 8:00pm \nMincha 8:45pm \nShabbat Ends 10:24pm \n  \n 
URL:https://kesher.org.uk/event/bereishit-2-2-2-2-2-2-2-2-2-2-2-2-2-2-2-2-2-2-2-2-2-2-2-2-2-2-2-2-2-2-2-2-2-2-2-2-2-2-2-2-2-2-2-2-2-2-2-2-2-2-2-2-2-2-2-2-2-2-2-2-2-2-2-2-2-2-2-2-2-3-2-2-2-2-2-2-2-2-2-2-2-2-2-2-2-2-2-2-2-2-2-2-2-2-87/
ATTACH;FMTTYPE=image/jpeg:https://kesher.org.uk/wp-content/uploads/2018/09/Shabbat.jpg
END:VEVENT
END:VCALENDAR