BEGIN:VCALENDAR
VERSION:2.0
PRODID:-//Kesher - ECPv5.3.2.1//NONSGML v1.0//EN
CALSCALE:GREGORIAN
METHOD:PUBLISH
X-WR-CALNAME:Kesher
X-ORIGINAL-URL:https://kesher.org.uk
X-WR-CALDESC:Events for Kesher
BEGIN:VTIMEZONE
TZID:UTC
BEGIN:STANDARD
TZOFFSETFROM:+0000
TZOFFSETTO:+0000
TZNAME:UTC
DTSTART:20240101T000000
END:STANDARD
END:VTIMEZONE
BEGIN:VEVENT
DTSTART;VALUE=DATE:20240824
DTEND;VALUE=DATE:20240825
DTSTAMP:20260422T043936
CREATED:20200914T105153Z
LAST-MODIFIED:20240812T103233Z
UID:14934-1724457600-1724543999@kesher.org.uk
SUMMARY:Ekev
DESCRIPTION:In light of a large number of our members and friends who will be away (including the Rabbi\, Gabbaim\, and others)\, and in the further absence of a resident Shamash\, we have taken the unusual decision to suspend tefillah and all kehillah programming on Shabbos 23-24 August. We apologise for the inconvenience. \n  \n 
URL:https://kesher.org.uk/event/bereishit-2-2-2-2-2-2-2-2-2-2-2-2-2-2-2-2-2-2-2-2-2-2-2-2-2-2-2-2-2-2-2-2-2-2-2-2-2-2-2-2-2-2-2-2-2-2-2-2-2-2-2-2-2-2-2-2-2-2-2-2-2-2-2-2-2-2-2-2-2-3-2-2-2-2-2-2-2-2-2-2-2-2-2-2-2-2-2-2-2-2-2-2-2-2-93/
ATTACH;FMTTYPE=image/jpeg:https://kesher.org.uk/wp-content/uploads/2018/09/Shabbat.jpg
END:VEVENT
END:VCALENDAR