BEGIN:VCALENDAR
VERSION:2.0
PRODID:-//Kesher - ECPv5.3.2.1//NONSGML v1.0//EN
CALSCALE:GREGORIAN
METHOD:PUBLISH
X-WR-CALNAME:Kesher
X-ORIGINAL-URL:https://kesher.org.uk
X-WR-CALDESC:Events for Kesher
BEGIN:VTIMEZONE
TZID:UTC
BEGIN:STANDARD
TZOFFSETFROM:+0000
TZOFFSETTO:+0000
TZNAME:UTC
DTSTART:20260101T000000
END:STANDARD
END:VTIMEZONE
BEGIN:VEVENT
DTSTART;VALUE=DATE:20260522
DTEND;VALUE=DATE:20260523
DTSTAMP:20260422T161730
CREATED:20190516T100715Z
LAST-MODIFIED:20260422T121640Z
UID:17673-1779408000-1779494399@kesher.org.uk
SUMMARY:First Day Shavuot
DESCRIPTION:Shacharit @ Dawn: 4:00am \nMincha 7:00pm followed by Maariv \nCandle Lighting (from existing flame) after 7:20pm (latest 8:41pm)
URL:https://kesher.org.uk/event/first-day-shavuot-3-2-2-2-2/
CATEGORIES:Featured Events,Public Events
END:VEVENT
END:VCALENDAR