BEGIN:VCALENDAR
VERSION:2.0
PRODID:-//Kesher - ECPv5.3.2.1//NONSGML v1.0//EN
CALSCALE:GREGORIAN
METHOD:PUBLISH
X-WR-CALNAME:Kesher
X-ORIGINAL-URL:https://kesher.org.uk
X-WR-CALDESC:Events for Kesher
BEGIN:VTIMEZONE
TZID:UTC
BEGIN:STANDARD
TZOFFSETFROM:+0000
TZOFFSETTO:+0000
TZNAME:UTC
DTSTART:20240101T000000
END:STANDARD
END:VTIMEZONE
BEGIN:VEVENT
DTSTART;TZID=UTC:20240529T192000
DTEND;TZID=UTC:20240529T195000
DTSTAMP:20260423T001742
CREATED:20240418T123854Z
LAST-MODIFIED:20240418T123854Z
UID:14598-1717010400-1717012200@kesher.org.uk
SUMMARY:Mincha & Maariv
DESCRIPTION:
URL:https://kesher.org.uk/event/mincha-maariv-135/2024-05-29/
END:VEVENT
END:VCALENDAR