BEGIN:VCALENDAR
VERSION:2.0
PRODID:-//Kesher - ECPv5.3.2.1//NONSGML v1.0//EN
CALSCALE:GREGORIAN
METHOD:PUBLISH
X-WR-CALNAME:Kesher
X-ORIGINAL-URL:https://kesher.org.uk
X-WR-CALDESC:Events for Kesher
BEGIN:VTIMEZONE
TZID:UTC
BEGIN:STANDARD
TZOFFSETFROM:+0000
TZOFFSETTO:+0000
TZNAME:UTC
DTSTART:20250101T000000
END:STANDARD
END:VTIMEZONE
BEGIN:VEVENT
DTSTART;TZID=UTC:20250330T192000
DTEND;TZID=UTC:20250330T195000
DTSTAMP:20260421T152030
CREATED:20250227T121022Z
LAST-MODIFIED:20250227T121022Z
UID:15866-1743362400-1743364200@kesher.org.uk
SUMMARY:Mincha & Maariv
DESCRIPTION:
URL:https://kesher.org.uk/event/mincha-maariv-166/
END:VEVENT
END:VCALENDAR