BEGIN:VCALENDAR
VERSION:2.0
PRODID:-//Kesher - ECPv5.3.2.1//NONSGML v1.0//EN
CALSCALE:GREGORIAN
METHOD:PUBLISH
X-WR-CALNAME:Kesher
X-ORIGINAL-URL:https://kesher.org.uk
X-WR-CALDESC:Events for Kesher
BEGIN:VTIMEZONE
TZID:UTC
BEGIN:STANDARD
TZOFFSETFROM:+0000
TZOFFSETTO:+0000
TZNAME:UTC
DTSTART:20250101T000000
END:STANDARD
END:VTIMEZONE
BEGIN:VEVENT
DTSTART;TZID=UTC:20250403T200000
DTEND;TZID=UTC:20250403T203000
DTSTAMP:20260421T135628
CREATED:20230209T195321Z
LAST-MODIFIED:20250305T122616Z
UID:15901-1743710400-1743712200@kesher.org.uk
SUMMARY:Pre-Pesach Seminar Part 2: Seder Inspiration
DESCRIPTION:Let My People Know! \nSeder Inspiration from the Ba’al Ha-Turim \n8:00-8:30pm \nvia Zoom bit.ly/keshershiur
URL:https://kesher.org.uk/event/pesach-seminar-2-seder-inspiration-2-2/
CATEGORIES:Featured Events,Public Events
ATTACH;FMTTYPE=image/jpeg:https://kesher.org.uk/wp-content/uploads/2023/02/Let-My-People-Know-2025.jpg
END:VEVENT
END:VCALENDAR