BEGIN:VCALENDAR
VERSION:2.0
PRODID:-//Kesher - ECPv5.3.2.1//NONSGML v1.0//EN
CALSCALE:GREGORIAN
METHOD:PUBLISH
X-WR-CALNAME:Kesher
X-ORIGINAL-URL:https://kesher.org.uk
X-WR-CALDESC:Events for Kesher
BEGIN:VTIMEZONE
TZID:UTC
BEGIN:STANDARD
TZOFFSETFROM:+0000
TZOFFSETTO:+0000
TZNAME:UTC
DTSTART:20240101T000000
END:STANDARD
END:VTIMEZONE
BEGIN:VEVENT
DTSTART;VALUE=DATE:20240813
DTEND;VALUE=DATE:20240814
DTSTAMP:20260422T111833
CREATED:20210617T195930Z
LAST-MODIFIED:20240726T192351Z
UID:14941-1723507200-1723593599@kesher.org.uk
SUMMARY:Tisha B'Av
DESCRIPTION:Shacharit + Kinot 7:30am \nA Little Bit of Light 5:15pm \nMincha 6:30pm followed by \nMrs Ruth Vecht: \nA Danish Holocaust Memoir \nTogether we are Unbreakable (CCHF Video) \nMaariv 9:00pm \nFast Ends 9:13pm
URL:https://kesher.org.uk/event/tisha-bav-4-2-2-2/
CATEGORIES:Featured Events,Public Events
ATTACH;FMTTYPE=image/jpeg:https://kesher.org.uk/wp-content/uploads/2021/06/Tisha-BAv-5784-1-1.jpg
END:VEVENT
END:VCALENDAR