BEGIN:VCALENDAR
VERSION:2.0
PRODID:-//Kesher - ECPv5.3.2.1//NONSGML v1.0//EN
CALSCALE:GREGORIAN
METHOD:PUBLISH
X-WR-CALNAME:Kesher
X-ORIGINAL-URL:https://kesher.org.uk
X-WR-CALDESC:Events for Kesher
BEGIN:VTIMEZONE
TZID:UTC
BEGIN:STANDARD
TZOFFSETFROM:+0000
TZOFFSETTO:+0000
TZNAME:UTC
DTSTART:20240101T000000
END:STANDARD
END:VTIMEZONE
BEGIN:VEVENT
DTSTART;VALUE=DATE:20240513
DTEND;VALUE=DATE:20240514
DTSTAMP:20260423T094442
CREATED:20180326T142514Z
LAST-MODIFIED:20240418T123057Z
UID:14567-1715558400-1715644799@kesher.org.uk
SUMMARY:Yom HaZikaron
DESCRIPTION:Almost every high school in Israel has a “memorial corner” with the photos of the school graduates who fell in battle or while on military duty. Some high schools organize their own Yom Hazikaron ceremonies and invite the families of the fallen graduates to participate. The unique atmosphere of the day is enhanced by the sight of teenagers and children\, all dressed in white shirts and blue pants or skirts\, on their way to school\, and thousands of soldiers in uniform on their way to the military cemeteries. \nThe list of fallen soldiers becomes longer every year. The inevitable tendency of radio and television programs is to focus on individual stories of soldiers who lost their lives in recent decades\, rather than on those who fought in the pre-state undergrounds and 1948 war\, who have fewer surviving immediate family relatives today. \n\n\nYom Hazikaron is not conceived as a religious commemoration by the majority of Israelis\, but as part of the civil culture. The siren sound seems to inspire awe and sanctity no less than any traditional religious ceremony. \nOutside of Israel\, Yom Hazikaron is commemorated as part of Israel Independence Day observance. There is usually a short memorial or a moment of silence preceding the communal Yom Ha’atzmaut celebration. In synagogues that observe Yom Ha’atzmaut\, a special reading may be added to the service\, often preceding the Kaddish [memorial prayer].
URL:https://kesher.org.uk/event/yom-hazikaron-2-2/
ATTACH;FMTTYPE=image/jpeg:https://kesher.org.uk/wp-content/uploads/2018/03/yom-hazikaron.jpg
END:VEVENT
END:VCALENDAR