BEGIN:VCALENDAR
VERSION:2.0
PRODID:-//Kesher - ECPv5.3.2.1//NONSGML v1.0//EN
CALSCALE:GREGORIAN
METHOD:PUBLISH
X-WR-CALNAME:Kesher
X-ORIGINAL-URL:https://kesher.org.uk
X-WR-CALDESC:Events for Kesher
BEGIN:VTIMEZONE
TZID:UTC
BEGIN:STANDARD
TZOFFSETFROM:+0000
TZOFFSETTO:+0000
TZNAME:UTC
DTSTART:20240101T000000
END:STANDARD
END:VTIMEZONE
BEGIN:VEVENT
DTSTART;VALUE=DATE:20241201
DTEND;VALUE=DATE:20241203
DTSTAMP:20260421T125208
CREATED:20220125T143340Z
LAST-MODIFIED:20241119T151123Z
UID:15483-1733011200-1733183999@kesher.org.uk
SUMMARY:Rosh Hodesh Kislev
DESCRIPTION:
URL:https://kesher.org.uk/event/rosh-hodesh-adar-2-2-2-2-2-2-2-2-2-2-2-2-2-2-2-2-2-2-2-2-2-2-2-2-3-2-2-2-2-2-2/
ATTACH;FMTTYPE=image/jpeg:https://kesher.org.uk/wp-content/uploads/2018/10/Rosh-Hodesh-1.jpg
END:VEVENT
BEGIN:VEVENT
DTSTART;TZID=UTC:20241202T070000
DTEND;TZID=UTC:20241202T080000
DTSTAMP:20260421T125208
CREATED:20241016T151343Z
LAST-MODIFIED:20241119T161023Z
UID:15532-1733122800-1733126400@kesher.org.uk
SUMMARY:Shacharit
DESCRIPTION:Join the quorum to make up this morning minyan.
URL:https://kesher.org.uk/event/shacharit-13-2024-11-28-2-2024-11-29-3-2-2025-01-26-2/2024-12-02/
ATTACH;FMTTYPE=image/jpeg:https://kesher.org.uk/wp-content/uploads/2018/03/morning-minyan-tallis-tefillin.jpg
END:VEVENT
BEGIN:VEVENT
DTSTART;TZID=UTC:20241202T200000
DTEND;TZID=UTC:20241202T210000
DTSTAMP:20260421T125208
CREATED:20180326T142510Z
LAST-MODIFIED:20241119T141318Z
UID:15412-1733169600-1733173200@kesher.org.uk
SUMMARY:Talmud with Rashi via Zoom
DESCRIPTION:Talmud with Rabbi Rashi 8:00pm \nA zoom shiur for men \nEmail connect@kesher.org.uk for the Zoom link. \nWe look forward to seeing you.
URL:https://kesher.org.uk/event/torah-connections-3-3-2019-03-25-2-2-2-2019-06-24-2-2019-07-22-2-2019-09-23-2-2019-11-25-2-2-2020-01-27-2-2020-02-24-2-2-2-2-2020-04-27-2-2020-06-29-2-2020-07-27-2-2020-10-26-2-2020-11-30-2-2020-1-1-2/2024-12-02/
LOCATION:Kesher\, 933 Finchley Road\, London\, NW11 7PE\, United Kingdom
CATEGORIES:Featured Events,Public Events
ATTACH;FMTTYPE=image/jpeg:https://kesher.org.uk/wp-content/uploads/2018/03/Talmud-with-Rashi-Zoom-April-2020-scaled.jpg
ORGANIZER;CN="Kesher%20Community%20Centre":MAILTO:info@kesher.org.uk
END:VEVENT
END:VCALENDAR