BEGIN:VCALENDAR
VERSION:2.0
PRODID:-//Kesher - ECPv5.3.2.1//NONSGML v1.0//EN
CALSCALE:GREGORIAN
METHOD:PUBLISH
X-WR-CALNAME:Kesher
X-ORIGINAL-URL:https://kesher.org.uk
X-WR-CALDESC:Events for Kesher
BEGIN:VTIMEZONE
TZID:UTC
BEGIN:STANDARD
TZOFFSETFROM:+0000
TZOFFSETTO:+0000
TZNAME:UTC
DTSTART:20240101T000000
END:STANDARD
END:VTIMEZONE
BEGIN:VEVENT
DTSTART;TZID=UTC:20241215T080000
DTEND;TZID=UTC:20241215T090000
DTSTAMP:20260421T101714
CREATED:20241016T151343Z
LAST-MODIFIED:20241016T151343Z
UID:15525-1734249600-1734253200@kesher.org.uk
SUMMARY:Shacharit
DESCRIPTION:Join the quorum to make up this morning minyan.
URL:https://kesher.org.uk/event/shacharit-13-2024-11-28-2-2024-11-29-3-2/2024-12-15/
ATTACH;FMTTYPE=image/jpeg:https://kesher.org.uk/wp-content/uploads/2018/03/morning-minyan-tallis-tefillin.jpg
END:VEVENT
BEGIN:VEVENT
DTSTART;TZID=UTC:20241215T090000
DTEND;TZID=UTC:20241215T101500
DTSTAMP:20260421T101714
CREATED:20241030T134004Z
LAST-MODIFIED:20241030T134004Z
UID:15411-1734253200-1734257700@kesher.org.uk
SUMMARY:Semichas Chaver
DESCRIPTION:
URL:https://kesher.org.uk/event/semichas-chaver-2024-11-24-2/2024-12-15/
CATEGORIES:Featured Events,Public Events
ATTACH;FMTTYPE=image/jpeg:https://kesher.org.uk/wp-content/uploads/2024/10/Semichas-Chaver-scaled.jpg
END:VEVENT
BEGIN:VEVENT
DTSTART;TZID=UTC:20241215T154000
DTEND;TZID=UTC:20241215T161000
DTSTAMP:20260421T101714
CREATED:20241119T151625Z
LAST-MODIFIED:20241119T151625Z
UID:15493-1734277200-1734279000@kesher.org.uk
SUMMARY:Mincha & Maariv
DESCRIPTION:
URL:https://kesher.org.uk/event/mincha-maariv-153/2024-12-15/
END:VEVENT
END:VCALENDAR