BEGIN:VCALENDAR
VERSION:2.0
PRODID:-//Kesher - ECPv5.3.2.1//NONSGML v1.0//EN
CALSCALE:GREGORIAN
METHOD:PUBLISH
X-WR-CALNAME:Kesher
X-ORIGINAL-URL:https://kesher.org.uk
X-WR-CALDESC:Events for Kesher
BEGIN:VTIMEZONE
TZID:UTC
BEGIN:STANDARD
TZOFFSETFROM:+0000
TZOFFSETTO:+0000
TZNAME:UTC
DTSTART:20240101T000000
END:STANDARD
END:VTIMEZONE
BEGIN:VEVENT
DTSTART;VALUE=DATE:20241221
DTEND;VALUE=DATE:20241222
DTSTAMP:20260419T130224
CREATED:20200914T105153Z
LAST-MODIFIED:20241119T142909Z
UID:15431-1734739200-1734825599@kesher.org.uk
SUMMARY:Vayeshev
DESCRIPTION:Shacharit 9:00am \nMincha 3:30pm \nShabbat Ends 4:52pm \n 
URL:https://kesher.org.uk/event/bereishit-2-2-2-2-2-2-2-2-2-2-2-2-2-2-2-2-2-2-2-2-2-2-2-2-2-2-2-2-2-2-2-2-2-2-2-2-2-2-2-2-2-2-2-2-2-2-2-2-2-2-2-2-2-2-2-2-2-2-2-2-2-2-2-2-2-2-2-2-2-3-2-2-2-2-2-2-2-2-2-2-2-2-2-2-2-2-2-2-2-2-2-2-2-10-9/
ATTACH;FMTTYPE=image/jpeg:https://kesher.org.uk/wp-content/uploads/2018/09/Shabbat.jpg
END:VEVENT
BEGIN:VEVENT
DTSTART;TZID=UTC:20241221T175000
DTEND;TZID=UTC:20241221T185000
DTSTAMP:20260419T130224
CREATED:20231031T152158Z
LAST-MODIFIED:20231031T152158Z
UID:15407-1734803400-1734807000@kesher.org.uk
SUMMARY:Daddy & Me
DESCRIPTION:
URL:https://kesher.org.uk/event/daddy-me-10-2-2-3-2-2-2-2-2-2024-11-23-3/2024-12-21/
CATEGORIES:Featured Events,Public Events
ATTACH;FMTTYPE=image/jpeg:https://kesher.org.uk/wp-content/uploads/2023/10/Daddy-Me-2024.jpg
END:VEVENT
END:VCALENDAR