BEGIN:VCALENDAR
VERSION:2.0
PRODID:-//Kesher - ECPv5.3.2.1//NONSGML v1.0//EN
CALSCALE:GREGORIAN
METHOD:PUBLISH
X-WR-CALNAME:Kesher
X-ORIGINAL-URL:https://kesher.org.uk
X-WR-CALDESC:Events for Kesher
BEGIN:VTIMEZONE
TZID:UTC
BEGIN:STANDARD
TZOFFSETFROM:+0000
TZOFFSETTO:+0000
TZNAME:UTC
DTSTART:20240101T000000
END:STANDARD
END:VTIMEZONE
BEGIN:VEVENT
DTSTART;VALUE=DATE:20241229
DTEND;VALUE=DATE:20250102
DTSTAMP:20260421T103820
CREATED:20201126T093130Z
LAST-MODIFIED:20241119T160025Z
UID:15515-1735430400-1735775999@kesher.org.uk
SUMMARY:Hanukkah
DESCRIPTION:Light Candles after 4:00pm
URL:https://kesher.org.uk/event/hanukkah-6-2-2-2-2-2-2-2-2-2-2-2-2-2-2-2-2-3-3-2-2-2-2-2-2-2-2/
CATEGORIES:Featured Events,Public Events
ATTACH;FMTTYPE=image/jpeg:https://kesher.org.uk/wp-content/uploads/2020/11/Chanukah-Schedule-5784_page-0001-1.jpg
END:VEVENT
BEGIN:VEVENT
DTSTART;VALUE=DATE:20241231
DTEND;VALUE=DATE:20250102
DTSTAMP:20260421T103820
CREATED:20220125T143340Z
LAST-MODIFIED:20241119T151248Z
UID:15485-1735603200-1735775999@kesher.org.uk
SUMMARY:Rosh Hodesh Tevet
DESCRIPTION:
URL:https://kesher.org.uk/event/rosh-hodesh-adar-2-2-2-2-2-2-2-2-2-2-2-2-2-2-2-2-2-2-2-2-2-2-2-2-3-2-2-2-2-2-2-2/
ATTACH;FMTTYPE=image/jpeg:https://kesher.org.uk/wp-content/uploads/2018/10/Rosh-Hodesh-1.jpg
END:VEVENT
BEGIN:VEVENT
DTSTART;TZID=UTC:20241231T074000
DTEND;TZID=UTC:20241231T090000
DTSTAMP:20260421T103820
CREATED:20241016T151343Z
LAST-MODIFIED:20241016T151343Z
UID:15557-1735630800-1735635600@kesher.org.uk
SUMMARY:Shacharit
DESCRIPTION:Join the quorum to make up this morning minyan.
URL:https://kesher.org.uk/event/shacharit-13-2024-11-28-2-2024-11-29-3-2-2025-01-26-5/2024-12-31/
ATTACH;FMTTYPE=image/jpeg:https://kesher.org.uk/wp-content/uploads/2018/03/morning-minyan-tallis-tefillin.jpg
END:VEVENT
END:VCALENDAR