BEGIN:VCALENDAR
VERSION:2.0
PRODID:-//Kesher - ECPv5.3.2.1//NONSGML v1.0//EN
CALSCALE:GREGORIAN
METHOD:PUBLISH
X-WR-CALNAME:Kesher
X-ORIGINAL-URL:https://kesher.org.uk
X-WR-CALDESC:Events for Kesher
BEGIN:VTIMEZONE
TZID:UTC
BEGIN:STANDARD
TZOFFSETFROM:+0000
TZOFFSETTO:+0000
TZNAME:UTC
DTSTART:20250101T000000
END:STANDARD
END:VTIMEZONE
BEGIN:VEVENT
DTSTART;VALUE=DATE:20250124
DTEND;VALUE=DATE:20250125
DTSTAMP:20260421T103734
CREATED:20181009T100643Z
LAST-MODIFIED:20241119T150544Z
UID:15477-1737676800-1737763199@kesher.org.uk
SUMMARY:Friday Evening
DESCRIPTION:Candle-lighting 4:20pm \nMincha 4:20pm \n  \n  \n  \n  \n  \n  \n  \n  \n  \n  \n  \n  \n  \n 
URL:https://kesher.org.uk/event/friday-evening-4-3-2-2-3-2-2-2-2-2-2-2-2-2-2-2-2-2-2-2-2-2-2-2-2-2-2-2-2-2-2-2-2-2-2-2-3-2-2-2-2-2-2-2-2-2-2-2-2-3-2-2-2-2-2-3-2-2-2-2-2-2-2-2-2-2-2-2-2-2-2-2-2-2-3-2-2-2-2-2-2-2-2-2-2-2-2-2-2-2-2-123/
ATTACH;FMTTYPE=image/jpeg:https://kesher.org.uk/wp-content/uploads/2018/09/Shabbat-Candles.jpg
END:VEVENT
BEGIN:VEVENT
DTSTART;TZID=UTC:20250124T071000
DTEND;TZID=UTC:20250124T080000
DTSTAMP:20260421T103734
CREATED:20241016T151343Z
LAST-MODIFIED:20241016T151343Z
UID:15584-1737702600-1737705600@kesher.org.uk
SUMMARY:Shacharit
DESCRIPTION:Join the quorum to make up this morning minyan.
URL:https://kesher.org.uk/event/shacharit-13-2024-11-28-2-2024-11-29-3-2-2025-01-26-7-2025-01-30-4/2025-01-24/
ATTACH;FMTTYPE=image/jpeg:https://kesher.org.uk/wp-content/uploads/2018/03/morning-minyan-tallis-tefillin.jpg
END:VEVENT
END:VCALENDAR