BEGIN:VCALENDAR
VERSION:2.0
PRODID:-//Kesher - ECPv5.3.2.1//NONSGML v1.0//EN
CALSCALE:GREGORIAN
METHOD:PUBLISH
X-WR-CALNAME:Kesher
X-ORIGINAL-URL:https://kesher.org.uk
X-WR-CALDESC:Events for Kesher
BEGIN:VTIMEZONE
TZID:UTC
BEGIN:STANDARD
TZOFFSETFROM:+0000
TZOFFSETTO:+0000
TZNAME:UTC
DTSTART:20260101T000000
END:STANDARD
END:VTIMEZONE
BEGIN:VEVENT
DTSTART;VALUE=DATE:20260408
DTEND;VALUE=DATE:20260409
DTSTAMP:20260423T063245
CREATED:20200316T111708Z
LAST-MODIFIED:20260225T140758Z
UID:17337-1775606400-1775692799@kesher.org.uk
SUMMARY:7th Day Pesach
DESCRIPTION:Shacharit 9:00am \nMincha 7:30pm followed by Shiur & Maariv \nCandle-lighting 8:38pm (from existing flame)
URL:https://kesher.org.uk/event/7th-day-pesach-2-2-3/
ATTACH;FMTTYPE=image/jpeg:https://kesher.org.uk/wp-content/uploads/2019/03/Pesach-Seder.jpg
END:VEVENT
END:VCALENDAR