BEGIN:VCALENDAR
VERSION:2.0
PRODID:-//Kesher - ECPv5.3.2.1//NONSGML v1.0//EN
CALSCALE:GREGORIAN
METHOD:PUBLISH
X-WR-CALNAME:Kesher
X-ORIGINAL-URL:https://kesher.org.uk
X-WR-CALDESC:Events for Kesher
BEGIN:VTIMEZONE
TZID:UTC
BEGIN:STANDARD
TZOFFSETFROM:+0000
TZOFFSETTO:+0000
TZNAME:UTC
DTSTART:20260101T000000
END:STANDARD
END:VTIMEZONE
BEGIN:VEVENT
DTSTART;VALUE=DATE:20260417
DTEND;VALUE=DATE:20260419
DTSTAMP:20260423T063356
CREATED:20220125T143340Z
LAST-MODIFIED:20260304T115918Z
UID:17405-1776384000-1776556799@kesher.org.uk
SUMMARY:Rosh Hodesh Iyar
DESCRIPTION:
URL:https://kesher.org.uk/event/rosh-hodesh-adar-2-2-2-2-2-2-2-2-2-2-2-2-2-2-2-2-2-2-2-2-2-2-2-2-3-2-2-2-2-2-2-2-2-2-2-2-2-2-2-2-2-2-2-2-2-3/
ATTACH;FMTTYPE=image/jpeg:https://kesher.org.uk/wp-content/uploads/2018/10/Rosh-Hodesh-1.jpg
END:VEVENT
BEGIN:VEVENT
DTSTART;VALUE=DATE:20260418
DTEND;VALUE=DATE:20260419
DTSTAMP:20260423T063356
CREATED:20200914T105153Z
LAST-MODIFIED:20260304T112230Z
UID:17380-1776470400-1776556799@kesher.org.uk
SUMMARY:Tazria-Metzorah
DESCRIPTION:Shacharit 9:00am \nMincha 7:30pm \nShabbat Ends 8:57pm \n  \n 
URL:https://kesher.org.uk/event/bereishit-2-2-2-2-2-2-2-2-2-2-2-2-2-2-2-2-2-2-2-2-2-2-2-2-2-2-2-2-2-2-2-2-2-2-2-2-2-2-2-2-2-2-2-2-2-2-2-2-2-2-2-2-2-2-2-2-2-2-2-2-2-2-2-2-2-2-2-2-2-3-2-2-2-2-2-2-2-2-2-2-2-2-2-2-2-2-2-2-2-2-2-2-2-1-66/
ATTACH;FMTTYPE=image/jpeg:https://kesher.org.uk/wp-content/uploads/2018/09/Shabbat.jpg
END:VEVENT
BEGIN:VEVENT
DTSTART;TZID=UTC:20260418T184500
DTEND;TZID=UTC:20260418T193000
DTSTAMP:20260423T063356
CREATED:20260304T115239Z
LAST-MODIFIED:20260304T115320Z
UID:17387-1776537900-1776540600@kesher.org.uk
SUMMARY:Visions of the Fathers
DESCRIPTION:
URL:https://kesher.org.uk/event/visions-of-the-fathers-2/
ATTACH;FMTTYPE=image/jpeg:https://kesher.org.uk/wp-content/uploads/2025/02/Visions-of-the-Fathers-Times-2026.jpg
END:VEVENT
END:VCALENDAR