BEGIN:VCALENDAR
VERSION:2.0
PRODID:-//Kesher - ECPv5.3.2.1//NONSGML v1.0//EN
CALSCALE:GREGORIAN
METHOD:PUBLISH
X-WR-CALNAME:Kesher
X-ORIGINAL-URL:https://kesher.org.uk
X-WR-CALDESC:Events for Kesher
BEGIN:VTIMEZONE
TZID:UTC
BEGIN:STANDARD
TZOFFSETFROM:+0000
TZOFFSETTO:+0000
TZNAME:UTC
DTSTART:20260101T000000
END:STANDARD
END:VTIMEZONE
BEGIN:VEVENT
DTSTART;TZID=UTC:20260426T080000
DTEND;TZID=UTC:20260426T090000
DTSTAMP:20260423T063414
CREATED:20251124T132253Z
LAST-MODIFIED:20260304T115542Z
UID:17395-1777190400-1777194000@kesher.org.uk
SUMMARY:Shacharit
DESCRIPTION:Join the quorum to make up this morning minyan.
URL:https://kesher.org.uk/event/shacharit-16-2-3-2026-01-30-2-2026-02-13-2-2026-02-27-4-2026-03-29-2-2026-03-31-3/2026-04-26/
ATTACH;FMTTYPE=image/jpeg:https://kesher.org.uk/wp-content/uploads/2018/03/morning-minyan-tallis-tefillin.jpg
END:VEVENT
BEGIN:VEVENT
DTSTART;TZID=UTC:20260426T090000
DTEND;TZID=UTC:20260426T100000
DTSTAMP:20260423T063414
CREATED:20251023T111824Z
LAST-MODIFIED:20251023T111824Z
UID:17428-1777194000-1777197600@kesher.org.uk
SUMMARY:Semichas Chaver
DESCRIPTION:
URL:https://kesher.org.uk/event/semichas-chaver-2-2025-11-23-2-2-2-2026-01-25-2-2026-02-22-2-2026-03-29-2/2026-04-26/
ATTACH;FMTTYPE=image/jpeg:https://kesher.org.uk/wp-content/uploads/2025/02/Semichas-Chaver-Summer-Term-scaled.jpg
END:VEVENT
END:VCALENDAR