BEGIN:VCALENDAR
VERSION:2.0
PRODID:-//Kesher - ECPv5.3.2.1//NONSGML v1.0//EN
CALSCALE:GREGORIAN
METHOD:PUBLISH
X-WR-CALNAME:Kesher
X-ORIGINAL-URL:https://kesher.org.uk
X-WR-CALDESC:Events for Kesher
BEGIN:VTIMEZONE
TZID:UTC
BEGIN:STANDARD
TZOFFSETFROM:+0000
TZOFFSETTO:+0000
TZNAME:UTC
DTSTART:20260101T000000
END:STANDARD
END:VTIMEZONE
BEGIN:VEVENT
DTSTART;VALUE=DATE:20260504
DTEND;VALUE=DATE:20260505
DTSTAMP:20260423T075759
CREATED:20260422T120403Z
LAST-MODIFIED:20260422T120403Z
UID:17659-1777852800-1777939199@kesher.org.uk
SUMMARY:Bank Holiday
DESCRIPTION:
URL:https://kesher.org.uk/event/bank-holiday-47/
END:VEVENT
BEGIN:VEVENT
DTSTART;TZID=UTC:20260504T080000
DTEND;TZID=UTC:20260504T090000
DTSTAMP:20260423T075759
CREATED:20260422T122233Z
LAST-MODIFIED:20260422T122932Z
UID:17700-1777881600-1777885200@kesher.org.uk
SUMMARY:Shacharit
DESCRIPTION:Join the quorum to make up this morning minyan.
URL:https://kesher.org.uk/event/shacharit-17-2026-05-21-2-2-2026-05-31-2/2026-05-04/
ATTACH;FMTTYPE=image/jpeg:https://kesher.org.uk/wp-content/uploads/2018/03/morning-minyan-tallis-tefillin.jpg
END:VEVENT
END:VCALENDAR