BEGIN:VCALENDAR
VERSION:2.0
PRODID:-//Kesher - ECPv5.3.2.1//NONSGML v1.0//EN
CALSCALE:GREGORIAN
METHOD:PUBLISH
X-WR-CALNAME:Kesher
X-ORIGINAL-URL:https://kesher.org.uk
X-WR-CALDESC:Events for Kesher
BEGIN:VTIMEZONE
TZID:UTC
BEGIN:STANDARD
TZOFFSETFROM:+0000
TZOFFSETTO:+0000
TZNAME:UTC
DTSTART:20260101T000000
END:STANDARD
END:VTIMEZONE
BEGIN:VEVENT
DTSTART;TZID=UTC:20260507T070000
DTEND;TZID=UTC:20260507T080000
DTSTAMP:20260423T080055
CREATED:20251124T132253Z
LAST-MODIFIED:20260422T121943Z
UID:17677-1778137200-1778140800@kesher.org.uk
SUMMARY:Shacharit
DESCRIPTION:Join the quorum to make up this morning minyan.
URL:https://kesher.org.uk/event/shacharit-16-2-3-2026-01-30-2-2026-02-13-2-2026-02-27-4-2026-03-29-2-2026-03-31-3-2026-04-26-2-2026-04-30-4/2026-05-07/
ATTACH;FMTTYPE=image/jpeg:https://kesher.org.uk/wp-content/uploads/2018/03/morning-minyan-tallis-tefillin.jpg
END:VEVENT
BEGIN:VEVENT
DTSTART;TZID=UTC:20260507T200000
DTEND;TZID=UTC:20260507T203000
DTSTAMP:20260423T080055
CREATED:20251023T110343Z
LAST-MODIFIED:20260422T114540Z
UID:17631-1778184000-1778185800@kesher.org.uk
SUMMARY:30 Minutes on the Parasha
DESCRIPTION:30 Minutes on the Parasha \nvia Zoom bit.ly/keshershiur
URL:https://kesher.org.uk/event/30-minutes-on-the-parasha-7-2025-11-27-2-2025-12-18-2-2026-01-22-2-2026-02-19-3-2026-03-19-2-2026-04-23-2/2026-05-07/
ATTACH;FMTTYPE=image/jpeg:https://kesher.org.uk/wp-content/uploads/2025/02/Parsha-Shiur-5786-Abarbanel.jpg
END:VEVENT
END:VCALENDAR