BEGIN:VCALENDAR
VERSION:2.0
PRODID:-//Kesher - ECPv5.3.2.1//NONSGML v1.0//EN
CALSCALE:GREGORIAN
METHOD:PUBLISH
X-WR-CALNAME:Kesher
X-ORIGINAL-URL:https://kesher.org.uk
X-WR-CALDESC:Events for Kesher
BEGIN:VTIMEZONE
TZID:UTC
BEGIN:STANDARD
TZOFFSETFROM:+0000
TZOFFSETTO:+0000
TZNAME:UTC
DTSTART:20260101T000000
END:STANDARD
END:VTIMEZONE
BEGIN:VEVENT
DTSTART;VALUE=DATE:20260521
DTEND;VALUE=DATE:20260522
DTSTAMP:20260423T075855
CREATED:20190516T100424Z
LAST-MODIFIED:20260422T121505Z
UID:17671-1779321600-1779407999@kesher.org.uk
SUMMARY:Erev Shavuot
DESCRIPTION:Candle lighting 8:39pm \nMincha 8:45pm followed by Shiur and Maariv \nCommunal Meal & Late Night Learning from 1:00am
URL:https://kesher.org.uk/event/erev-shavuot-3-2-2-2-2/
CATEGORIES:Featured Events,Public Events
END:VEVENT
END:VCALENDAR