BEGIN:VCALENDAR
VERSION:2.0
PRODID:-//Kesher - ECPv5.3.2.1//NONSGML v1.0//EN
CALSCALE:GREGORIAN
METHOD:PUBLISH
X-WR-CALNAME:Kesher
X-ORIGINAL-URL:https://kesher.org.uk
X-WR-CALDESC:Events for Kesher
BEGIN:VTIMEZONE
TZID:UTC
BEGIN:STANDARD
TZOFFSETFROM:+0000
TZOFFSETTO:+0000
TZNAME:UTC
DTSTART:20260101T000000
END:STANDARD
END:VTIMEZONE
BEGIN:VEVENT
DTSTART;VALUE=DATE:20260523
DTEND;VALUE=DATE:20260524
DTSTAMP:20260423T080404
CREATED:20190516T100936Z
LAST-MODIFIED:20260422T121810Z
UID:17675-1779494400-1779580799@kesher.org.uk
SUMMARY:Second Day Shavuot
DESCRIPTION:Shacharit 9:00am (Yizkor 11:00am) \nScroll of Ruth \nSpiritual Spa 6:00pm \nMincha 8:30pm followed by Cheesecake Bonanza \nYom Tov ends 10:06pm
URL:https://kesher.org.uk/event/second-day-shavuot-3-2-2-2-2/
CATEGORIES:Featured Events,Public Events
END:VEVENT
END:VCALENDAR